BEGIN:VCALENDAR
VERSION:2.0
PRODID:icalendar-ruby
CALSCALE:GREGORIAN
METHOD:PUBLISH
BEGIN:VEVENT
DTSTAMP:20260422T102854Z
UID:7-1470444@byronunitedmethodist.org
DTSTART:20260716T213000Z
DTEND:20260717T000000Z
CLASS:PUBLIC
CREATED:20260419T200317
DESCRIPTION:As part of Byron Good Neighbor Days\, all are invited to a FREE
  Taco Dinner featuring tacos\, refried beans\, Mexican rice\, chips\, sals
 a\,  dessert\, and beverages. 
LAST-MODIFIED:20260419T200317
LOCATION:Byron United Methodist Church
SUMMARY:Good Neighbor Days Taco Dinner
URL;VALUE=URI:https://www.byronunitedmethodist.org/events/good-neighbor-day
 s-taco-dinner/2026-07-16
ATTACH;FILENAME=Mexican-Fiesta-Dinner-2026.png;FMTTYPE=image/png:https://dq
 5pwpg1q8ru0.cloudfront.net/2026/04/20/01/03/17/01e11c48-6955-4f19-ba01-786
 666bc1fe0/Mexican-Fiesta-Dinner-2026.png
END:VEVENT
END:VCALENDAR
