BEGIN:VCALENDAR
VERSION:2.0
PRODID:icalendar-ruby
CALSCALE:GREGORIAN
METHOD:PUBLISH
BEGIN:VEVENT
DTSTAMP:20260420T152549Z
UID:6-1470445@byronunitedmethodist.org
DTSTART:20260517T190000Z
DTEND:20260517T200000Z
CLASS:PUBLIC
CREATED:20260419T200439
DESCRIPTION:Join us for this free event featuring the Byron UMC Grace Notes
  Choir in concert with the Pax Christi Catholic Church Praise Band. A free
 -will offering will be collected to benefit Family Services Rochester. Ref
 reshments will be served following the concert.
LAST-MODIFIED:20260419T200439
LOCATION:Byron United Methodist Church
SUMMARY:Sacred Creation Concert
URL;VALUE=URI:https://www.byronunitedmethodist.org/events/sacred-creation-c
 oncert/2026-05-17
ATTACH;FILENAME=Sacred-Creation-Facebook-Post.png;FMTTYPE=image/png:https:/
 /dq5pwpg1q8ru0.cloudfront.net/2026/04/20/01/04/38/dd479097-d67e-46b0-b109-
 12230a2900cc/Sacred-Creation-Facebook-Post.png
END:VEVENT
END:VCALENDAR
