BEGIN:VCALENDAR
VERSION:2.0
PRODID:icalendar-ruby
CALSCALE:GREGORIAN
METHOD:PUBLISH
BEGIN:VEVENT
DTSTAMP:20260420T170051Z
UID:8-1470448@byronunitedmethodist.org
DTSTART:20260503T143000Z
DTEND:20260503T153000Z
CLASS:PUBLIC
CREATED:20260419T203129
DESCRIPTION:
LAST-MODIFIED:20260419T203129
LOCATION:
SUMMARY:Sunday Worship
URL;VALUE=URI:https://www.byronunitedmethodist.org/events/sunday-worship--8
 /2026-05-03
END:VEVENT
END:VCALENDAR
