BEGIN:VCALENDAR
VERSION:2.0
PRODID:icalendar-ruby
CALSCALE:GREGORIAN
METHOD:PUBLISH
BEGIN:VEVENT
DTSTAMP:20260420T200100Z
UID:8-1470451@byronunitedmethodist.org
DTSTART:20260524T143000Z
DTEND:20260524T153000Z
CLASS:PUBLIC
CREATED:20260419T203129
DESCRIPTION:
LAST-MODIFIED:20260419T203129
LOCATION:
SUMMARY:Sunday Worship
URL;VALUE=URI:https://www.byronunitedmethodist.org/events/sunday-worship--8
 /2026-05-24
END:VEVENT
END:VCALENDAR
