BEGIN:VCALENDAR
VERSION:2.0
PRODID:icalendar-ruby
CALSCALE:GREGORIAN
METHOD:PUBLISH
BEGIN:VEVENT
DTSTAMP:20260424T065358Z
UID:8-1470467@byronunitedmethodist.org
DTSTART:20260913T143000Z
DTEND:20260913T153000Z
CLASS:PUBLIC
CREATED:20260419T203130
DESCRIPTION:
LAST-MODIFIED:20260419T203130
LOCATION:
SUMMARY:Sunday Worship
URL;VALUE=URI:https://www.byronunitedmethodist.org/events/sunday-worship--8
 /2026-09-13
END:VEVENT
END:VCALENDAR
