BEGIN:VCALENDAR
VERSION:2.0
PRODID:icalendar-ruby
CALSCALE:GREGORIAN
METHOD:PUBLISH
BEGIN:VEVENT
DTSTAMP:20260424T110031Z
UID:8-1470469@byronunitedmethodist.org
DTSTART:20260927T143000Z
DTEND:20260927T153000Z
CLASS:PUBLIC
CREATED:20260419T203130
DESCRIPTION:
LAST-MODIFIED:20260419T203130
LOCATION:
SUMMARY:Sunday Worship
URL;VALUE=URI:https://www.byronunitedmethodist.org/events/sunday-worship--8
 /2026-09-27
END:VEVENT
END:VCALENDAR
