BEGIN:VCALENDAR
VERSION:2.0
PRODID:icalendar-ruby
CALSCALE:GREGORIAN
METHOD:PUBLISH
BEGIN:VEVENT
DTSTAMP:20260424T192507Z
UID:8-1470474@byronunitedmethodist.org
DTSTART:20261101T153000Z
DTEND:20261101T163000Z
CLASS:PUBLIC
CREATED:20260419T203130
DESCRIPTION:
LAST-MODIFIED:20260419T203130
LOCATION:
SUMMARY:Sunday Worship
URL;VALUE=URI:https://www.byronunitedmethodist.org/events/sunday-worship--8
 /2026-11-01
END:VEVENT
END:VCALENDAR
